BEGIN:VCALENDAR
VERSION:2.0
PRODID:-//hacksw/handcal//NONSGML v1.0//EN
BEGIN:VEVENT
DTSTAMP:20150620T154500Z
DTSTART:20150620T154500Z
DTEND:20150620T174500Z

GEO:52.5063462;13.4436582
LOCATION:12 Mühlenstraße  Berlin Berlin 10243
SUMMARY:UFC FIGHT NIGHT BERLIN
DESCRIPTION:Achtung: Zutritt zur Veranstaltung nur für Personen ab 18 Jahren.Die UFC FIGHT NIGHT kehrt zurück nach Berlin! Am 20. Juni 2015 werden zum zweiten Mal einige der besten Mixed Martial Arts Kämpfer der Welt in der o2 World Berlin zu sehen sein.  Bitte beachten Sie, dass der ursprünglich geplante Kampf zwischen Alexander Gustafsson und Glover Teixeira aufgrund einer Verletzung von Gustafsson nicht stattfinden kann. Die Polin Joanna Jedrzejczyk (9-0-0-), amtierender UFC Champion im Strohhalmgewicht, wird stattdessen im Main Event ihren Titel gegen #3 Jessica Penne (USA) verteidigen. Dieses historische Aufeinandertreffen wird der erste UFC Titelkampf in Europa außerhalb Großbritanniens sein und der erste Titelkampf zwischen zwei Frauen in Europa. Aktuelle Fight Card*:Main CardWomen’s Strawweight Title BoutJoanna Jedrzejczyk (POL) vs. Jessica Penne (USA)Featherweight BoutDennis Siver (GER) vs Tatsuya Kawajiri (JAP)Welterweight Bout Peter Sobotta (GER) vs Steve Kennedy (AUS)Lightweight BoutNick Hein (GER) vs Lukasz Sajewski (POL) VorkämpfeMiddleweight Bout Uriah Hall (Jamaica) vs Krzysztof Jotko (POL)Featherweight Bout Makwan Amirkhani (IRQ) vs Masio Fullen (MEX) Lightweight Bout Mairbek Taisumov (RUS) vs Alan Patrick (BRA)Featherweight Bout Alan Omer (GER) vs Mike Wilkinson (ENG)Featherweight Bout Niklas Backstrom (SWE) vs Noad Lahat (ISR)Middleweight Bout Scott Askham (ENG) vs Antonio dos Santos (BRA)Lightweight Bout Piotr Hallmann (POL) vs Magomed Mustafaev (RUS)Bestätigte Guest Fighter*:Alexander GustafssonStipe Miocic Rose NamajunasForrest Griffin*Änderungen vorbehalten Die Mixed Martial Arts, die besonders in den USA hohe Anerkennung genießen, verbinden klassische Disziplinen wie Boxen, Ringen, Judo, Kickboxen und auch Teakwondo. Kaum eine andere Sportart bietet so spektakuläre und emotionsgeladende Kämpfe wie diese - was die ungebrochene Beliebtheit der Fight Nights in den USA eindrucksvoll beweist. Die Athleten zeichnen sich aus durch ihre perfekt austrainierten Körper und die technische Versiertheit in den unterschiedlichsten Kampfstilen.Ein Kampf besteht aus drei oder fünf Runden à fünf Minuten. Die UFC unterscheidet insgesamt 9 Gewichtsklassen von "Fliegengewicht" (bis 57 kg) bis hin zu "Schwergewicht" (94 bis 120 kg). Die Teilnehmer kämpfen in einem achteckigen Ring und dürfen neben dünnen Handschuhen lediglich noch Hosen tragen, die bis zum Knie reichen.
END:VEVENT
END:VCALENDAR