BEGIN:VCALENDAR
VERSION:2.0
PRODID:-//hacksw/handcal//NONSGML v1.0//EN
BEGIN:VEVENT
DTSTAMP:20230919T180000Z
DTSTART:20230919T180000Z
DTEND:20230919T200000Z

GEO:52.5063462;13.4436582
LOCATION:12 Mühlenstraße  Berlin Berlin 10243
SUMMARY:Two Steps From Hell
DESCRIPTION:Thomas Bergersen und Nick Phoenix, die zu den weltweit bekanntesten Produzenten und Komponisten epischer Musikwerke zählen, performen am 19. September 2023 "Two Steps From Hell" live in der Uber Arena.Tickets gibt es ab sofort."Two Steps From Hell" ist eines der erfolgreichsten Musikunternehmen aller Zeiten. Thomas Bergersen und Nick Phoenix brechen dabei mit über 4 Milliarden Views auf YouTube, einer Milliarde Plays auf anderen Streaming-Plattformen und vier Platin-Alben sämtliche Streaming- und Follower-Rekorde. Mit Titeln wie "Protectors of the Earth“, „Archangel“, „Avengers: Endgame“, „Aquaman“ oder „Jurassic World“ haben sie es in die Herzen ihrer Fans geschafft. Verpassen Sie es nicht, wenn "Two Steps From Hell" erneut durch Europa tourt.
END:VEVENT
END:VCALENDAR