BEGIN:VCALENDAR
VERSION:2.0
PRODID:-//hacksw/handcal//NONSGML v1.0//EN
BEGIN:VEVENT
DTSTAMP:20260501T183000Z
DTSTART:20260501T183000Z
DTEND:20260501T203000Z

GEO:52.5063462;13.4436582
LOCATION:12 Mühlenstraße  Berlin Berlin 10243
SUMMARY:ROSALÍA
DESCRIPTION:Die spanische Sängerin, Songwriterin und Produzentin ROSALÍA wird am 1. Mai 2026 im Rahmen ihrer "LUX TOUR 2026" in der Uber Arena in Berlin auftreten.Tickets gibt es ab sofort.ROSALÍA geht 2026 mit ihrem Erfolgsalbum „LUX“ auf große Welttournee und bringt ihre neuen Songs live auf die Bühne. Die katalanische Sängerin ist bekannt für ihren einzigartigen Stil, der traditionelle spanische Musik auf innovative Weise mit modernem Pop verbindet. Mit ihren internationalen Erfolgen, darunter Grammy- und Latin-Grammy-Auszeichnungen, hat sie sich als eine der innovativsten und einflussreichsten Künstlerinnen ihrer Generation etabliert.
END:VEVENT
END:VCALENDAR