BEGIN:VCALENDAR
VERSION:2.0
PRODID:-//hacksw/handcal//NONSGML v1.0//EN
BEGIN:VEVENT
DTSTAMP:20270202T190000Z
DTSTART:20270202T190000Z
DTEND:20270202T210000Z

GEO:52.5063462;13.4436582
LOCATION:12 Mühlenstraße  Berlin Berlin 10243
SUMMARY:Riverdance
DESCRIPTION:Am 2. Februar 2027 kommt die irische Stepptanzgruppe Riverdance im Rahmen ihrer "30 Jahre"- Jubiläumstour live in die Uber Arena nach Berlin.Tickets gibt es ab sofort.Riverdance verbindet irische und internationale Tanz- und Musiktraditionen und begeistert damit Millionen von Menschen. Erleben Sie die spektakuläre Produktion mit einer neuen Generation an Tänzer*innen, die der beliebten Originalshow mit neuen Choreografien, Kostümen und modernster Beleuchtung neuen Schwung verleiht.
END:VEVENT
END:VCALENDAR