BEGIN:VCALENDAR
VERSION:2.0
PRODID:-//hacksw/handcal//NONSGML v1.0//EN
BEGIN:VEVENT
DTSTAMP:20121027T180000Z
DTSTART:20121027T180000Z
DTEND:20121027T200000Z

GEO:52.5063462;13.4436582
LOCATION:12 Mühlenstraße  Berlin Berlin 10243
SUMMARY:Peter Maffay und TABALUGA
DESCRIPTION:Peter Maffay und Tabaluga gehen ein letztes Mal auf große Live-Tournee und werden ihre Abenteuer vom 26. bis 28. Oktober 2012 in der O2 World Berlin präsentieren. Am 7. Oktober 2011 erschien das fünfte und letzte Album des erfolgreichsten Rock-Märchens der Geschichte. In „Tabaluga & die Zeichen der Zeit" erlebt der kleine grüne Drachen ein ganz neues Abenteuer – sein Wecker, der ihn jeden Morgen weckt, fällt runter und bleibt stehen. Daraufhin ist seine Neugier geweckt und er macht sich auf Entdeckungsreise, um die Zeit zu verstehen. Tabalugas Erfinder Peter Maffay, Gregor Rottschalk, Rolf Zuckowski und Zeichner Helme Heine erweckten den Drachen erstmals 1983 bei „Tabaluga oder die Reise zur Vernunft" zum Leben. Begleitet wird er dabei immer von seiner Eisprinzessin Lilli und seinem Gegenspieler Arktos, dem Herrn des Eises, der ihm immer wieder Steine in den Weg legt. Nun geht es zum dritten Mal auf Tour für den Grünland-Bewohner und seine Freunde.Wie immer verspricht Tabaluga ein großartiges, kurzweiliges Erlebnis für Jung und Alt zu werden.
END:VEVENT
END:VCALENDAR