BEGIN:VCALENDAR
VERSION:2.0
PRODID:-//hacksw/handcal//NONSGML v1.0//EN
BEGIN:VEVENT
DTSTAMP:20161113T170000Z
DTSTART:20161113T170000Z
DTEND:20161113T190000Z

GEO:52.5063462;13.4436582
LOCATION:12 Mühlenstraße  Berlin Berlin 10243
SUMMARY:Peter Maffay und TABALUGA
DESCRIPTION:Der kleine grüne Drache ist wieder da: Peter Maffay und Tabaluga gehen erneut auf Live-Tournee und werden ihr neues Abenteuer am 11., 12. und 13. November 2016 in der Uber Arena präsentieren.Bereits im Herbst 2012 begleiteten Maffay und seine Band den Drachen mit dem Album „Tabaluga & die Zeichen der Zeit“ in der Uber Arena (damals noch o2 World Berlin). Erstmals wurde das Märchenwesen 1983 von Peter Maffay, Gregor Rottschalk, Rolf Zuckowski und Zeichner Helme Heine bei „Tabaluga oder die Reise zur Vernunft“ zum Leben erweckt und ist seitdem das erfolgreichste Rock-Märchen der Geschichte. Begleitet wird Tabaluga stets von seiner Eisprinzessin Lilli und seinem Gegenspieler Arktos, dem Herrn des Eises, der ihm immer wieder Steine in den Weg legt.In der neuen Geschichte „Es lebe die Freundschaft!“ geht es um eines der wichtigsten Themen überhaupt: Was bedeutet Freundschaft? Wie lebt man sie, wie fühlt man sie? All das wird das Publikum live mit Peter Maffay und dem kleinen grünen Drachen in einem aufrüttelnden Rockmärchen herausfinden mit brandneuen Songs für Kinder und allen, die es geblieben sind.
END:VEVENT
END:VCALENDAR