BEGIN:VCALENDAR
VERSION:2.0
PRODID:-//hacksw/handcal//NONSGML v1.0//EN
BEGIN:VEVENT
DTSTAMP:20150207T190000Z
DTSTART:20150207T190000Z
DTEND:20150207T210000Z

GEO:52.5063462;13.4436582
LOCATION:12 Mühlenstraße  Berlin Berlin 10243
SUMMARY:Peter Maffay & Band
DESCRIPTION:Sehnsüchtig haben die Fans auf diesen Moment gewartet: Peter Maffay geht endlich wieder auf große Tournee. Am 7. Februar 2015 macht Deutschlands Megastar in der O2 World Berlin Halt und präsentiert sein neues Album "Wenn das so ist".Mit seinem mittlerweile 23. Studioalbum schreibt Peter Maffay deutsche Musikgeschichte. 16 seiner Alben schafften es auf Platz 1 der Charts - das ist Rekord und macht Peter Maffay zu Deutschlands erfolgreichstem Künstler. Mit seiner markant rauen Stimme schreibt er Hymnen einer ganzen Generation. Erfolgshits wie "So bist du" und "Sonne in der Nacht" treffen genau ins Herz von jung und alt.Peter Maffay wird gemeinsam mit seiner Band den Fans ein über zweistündiges Rockkonzert präsentieren. Dabei darf sich das Publikum nicht nur auf die Songs aus dem Nummer-1 Album "Wenn das so ist" freuen, sondern auch auf die großen musikalischen Meilensteine seiner über 40jährigen Karriere sowie ganz persönliche Songs in komplett neuen Arrangements.
END:VEVENT
END:VCALENDAR