BEGIN:VCALENDAR
VERSION:2.0
PRODID:-//hacksw/handcal//NONSGML v1.0//EN
BEGIN:VEVENT
DTSTAMP:20151019T173000Z
DTSTART:20151019T173000Z
DTEND:20151019T193000Z

GEO:52.5063462;13.4436582
LOCATION:12 Mühlenstraße  Berlin Berlin 10243
SUMMARY:ABGESAGT: Nickelback
DESCRIPTION:Das für den 19. Oktober geplante Nickelback Konzert in der Uber Arena muss leider abgesagt werden. Leadsänger Chad Kroeger muss nach einer Stimmband-OP sechs bis neun Monate pausieren. Bereits gekaufte Tickets werden an der jeweiligen Vorverkaufsstelle zurückerstattet. Das offizielle Statement zur Absage:Die mehrfach mit Platin ausgezeichnete Rockband Nickelback ist gezwungen, alle verbleibenden Konzerte Ihrer No Fixed Address Tour 2015 abzusagen. Leadsänger Chad Kroeger muss auf ärztliches Anraten eine sechs bis neun Monate andauernde Pause einlegen, nachdem er sich kürzlich einer OP unterzogen hatte, bei dem ihm eine im Juni diagnostizierte Zyste an den Stimmbändern entfernt wurde.Nickelback sahen sich bereits im Juni dazu veranlasst, den zweiten Teil ihrer US-Tour abzusagen, als die Zyste an Kroegers Stimmbändern erstmals diagnostiziert wurde. Ursprünglich wollten sie die Tour im September in Europa fortsetzen. Trotz des erfolgreichen Ausgangs der Operation und der zufriedenstellenden Prognose der Ärzte wurde nunmehr ein längerer Heilungsprozess erforderlich.„Am meisten bedauern wir, im Herbst nicht für unsere Fans spielen zu können. Aber Chads Gesundheit und seine vollständige Genesung sind jetzt das Allerwichtigste. Wir hoffen, dass wir ihn danach stärker und besser als je zuvor erleben. Wir danken allen für ihre Unterstützung sowie ihr Verständnis und freuen uns darauf, so bald wie möglich wieder ‚on the road’ zu sein und unsere Musik zu spielen“.
END:VEVENT
END:VCALENDAR