BEGIN:VCALENDAR
VERSION:2.0
PRODID:-//hacksw/handcal//NONSGML v1.0//EN
BEGIN:VEVENT
DTSTAMP:20260515T180000Z
DTSTART:20260515T180000Z
DTEND:20260515T200000Z

GEO:;
LOCATION:   
SUMMARY:Abgesagt: Lola Young
DESCRIPTION:ACHTUNG:Das Konzert von Lola Young in der Uber Eats Music Hall, ursprünglich geplant für den 15. Mai 2026, muss abgesagt werden.Statement des Veranstalters:"Die Sängerin Lola Young hat schweren Herzens bekannt gegeben, dass sie ihre für die kommenden Monate geplanten Shows absagen wird. In einer offiziellen Stellungnahme betont Young, dass sie sich aus persönlichen Gründen vorerst aus der Öffentlichkeit zurückziehen möchte. Die Entscheidung markiert eine Phase der Ruhe und des Rückzugs für die Künstlerin. Lola Young bedankt sich bei ihren Fans für deren Verständnis, Unterstützung und Treue."Tickets können an den jeweiligen Vorverkaufsstellen zurückgegeben werden.
END:VEVENT
END:VCALENDAR