BEGIN:VCALENDAR
VERSION:2.0
PRODID:-//hacksw/handcal//NONSGML v1.0//EN
BEGIN:VEVENT
DTSTAMP:20250703T180000Z
DTSTART:20250703T180000Z
DTEND:20250703T200000Z

GEO:52.5063462;13.4436582
LOCATION:12 Mühlenstraße  Berlin Berlin 10243
SUMMARY:Lionel Richie
DESCRIPTION:Am 3. Juli 2025 haben Sie die Chance, den legendären Sänger Lionel Richie im Rahmen seiner "Say Hello To The Hits"-Tour live in der Uber Arena in Berlin zu erleben.Tickets gibt es ab sofort.Der Grammy-prämierte Superstar, bekannt für Hits wie "Hello", "Stuck On You" und "All Night Long" wird seine größten Erfolge live performen und Sie mit seiner einzigartigen Bühnenpräsenz verzaubern. Seine kraftvolle Stimme und charismatische Ausstrahlung garantieren Ihnen ein unvergessliches Konzerterlebnis.Special Guest: Iggi Kelly
END:VEVENT
END:VCALENDAR