BEGIN:VCALENDAR
VERSION:2.0
PRODID:-//hacksw/handcal//NONSGML v1.0//EN
BEGIN:VEVENT
DTSTAMP:20270123T190000Z
DTSTART:20270123T190000Z
DTEND:20270123T210000Z

GEO:52.5063462;13.4436582
LOCATION:12 Mühlenstraße  Berlin Berlin 10243
SUMMARY:JAN BÖHMERMANN & DAS RUNDFUNK TANZORCHESTER EHRENFELD
DESCRIPTION:Am 23. Januar 2027 bringen Jan Böhmermann & Das Rundfunk Tanzorchester ihre "Auf! Auf! Ehrenfeld!" Tour 2027 live in die Uber Arena nach Berlin.Tickets gibt es ab sofort.Jan Böhmermann zählt zu den bekanntesten Satirikern Deutschlands und begeistert seit Jahren mit seinem einzigartigen Mix aus Humor, Gesellschaftskritik und musikalischen Experimenten. Gemeinsam mit dem Rundfunk Tanzorchester Ehrenfeld präsentiert er eine ebenso energiegeladene wie vielseitige Live‑Show - ein Muss für alle Fans intelligenter Unterhaltung und anspruchsvoller Musikperformances.
END:VEVENT
END:VCALENDAR