BEGIN:VCALENDAR
VERSION:2.0
PRODID:-//hacksw/handcal//NONSGML v1.0//EN
BEGIN:VEVENT
DTSTAMP:20251119T190000Z
DTSTART:20251119T190000Z
DTEND:20251119T210000Z

GEO:52.5063462;13.4436582
LOCATION:12 Mühlenstraße  Berlin Berlin 10243
SUMMARY:Jamiroquai
DESCRIPTION:Jamiroquai kommt am 19. November 2025 im Rahmen der "The Heels Of Steel"-Tour live in die Uber Arena nach Berlin.Tickets gibt es ab sofort.Jamiroquais einzigartiger Sound, der vor allem von Funk, Acid Jazz und Disko geprägt ist, begeistert Fans auf der ganzen Welt seit Jahrzehnten. Taucht ein in die musikalische Welt von Jamiroquai und erlebt die neue "The Heels Of Steel"-Tour live in der Uber Arena.
END:VEVENT
END:VCALENDAR