BEGIN:VCALENDAR
VERSION:2.0
PRODID:-//hacksw/handcal//NONSGML v1.0//EN
BEGIN:VEVENT
DTSTAMP:20261211T190000Z
DTSTART:20261211T190000Z
DTEND:20261211T210000Z

GEO:;
LOCATION:   
SUMMARY:INNA
DESCRIPTION:Die rumänische Singer-Songwriterin INNA kommt am 11. Dezember 2026 in die Uber Eats Music Hall nach Berlin.Tickets sind ab Freitag, den 24.04.2026 um 10 Uhr, im exklusiven Music Hall Presale erhältlich. Jetzt für den Event-Alarm anmelden und informiert werden, sobald Tickets verfügbar sind.INNAs Song „Hot” zählt in Rumänien zu den meistgespielten Hits im Radio und Fernsehen. International begeistert die Künstlerin mit ihren verschiedenen EDM-, House- und Dance-Hits. Inna ist außerdem die erste europäische Sängerin, die auf YouTube über 1 Milliarde Aufrufe erzielte. Das Berliner Publikum kann sich in der Uber Eats Music Hall auf einen Abend voller Partystimmung freuen.
END:VEVENT
END:VCALENDAR