BEGIN:VCALENDAR
VERSION:2.0
PRODID:-//hacksw/handcal//NONSGML v1.0//EN
BEGIN:VEVENT
DTSTAMP:20250425T173000Z
DTSTART:20250425T173000Z
DTEND:20250425T193000Z

GEO:52.5063462;13.4436582
LOCATION:12 Mühlenstraße  Berlin Berlin 10243
SUMMARY:Eisbären Berlin - Kölner Haie, Finale, Spiel 5
DESCRIPTION:Die Eisbären Berlin stehen im Finale der PENNY DEL Playoffs und kämpfen um ihren 11. Deutschen Meistertitel. Die Berliner konnten sich in der Best-Of-Seven Halbfinaleserie mit vier Siegen gegen die Adler Mannheim durchsetzen.Im Finale um die Deutsche Meisterschaft treffen die Eisbären Berlin auf die Kölner Haie, die ihre Halbfinalserie gegen den ERC Ingolstadt gewannen.Die Eisbären haben in der Finalserie Heimrecht, so dass Spiel 5 in der Uber Arena stattfinden wird. 
END:VEVENT
END:VCALENDAR