BEGIN:VCALENDAR
VERSION:2.0
PRODID:-//hacksw/handcal//NONSGML v1.0//EN
BEGIN:VEVENT
DTSTAMP:20250909T173000Z
DTSTART:20250909T173000Z
DTEND:20250909T193000Z

GEO:52.5063462;13.4436582
LOCATION:12 Mühlenstraße  Berlin Berlin 10243
SUMMARY:Eisbären Berlin - Dresdner Eislöwen
DESCRIPTION:Am 9. September 2025 eröffnen die Eisbären Berlin die PENNY DEL Saison 2025/26 mit einem Heimspiel gegen Aufsteiger Dresdner Eislöwen.Nach vier Titelgewinnen in den letzten fünf Jahren ist das Ziel des 11-fachen Deutschen Meisters auch in dieser Saison klar. Der Kern der Mannschaft um Cheftrainer Serge Aubin kehrt auch für die kommende Spielzeit zurück. Heimspiele der Eisbären Berlin sind immer ein Spektakel. Freuen Sie sich auf bestes Eishockey, eine von der Fankurve getriebene unglaubliche Stimmung sowie eine perfekt abgestimmte Show in der Uber Arena.
END:VEVENT
END:VCALENDAR