BEGIN:VCALENDAR
VERSION:2.0
PRODID:-//hacksw/handcal//NONSGML v1.0//EN
BEGIN:VEVENT
DTSTAMP:20260426T143000Z
DTSTART:20260426T143000Z
DTEND:20260426T163000Z

GEO:52.5063462;13.4436582
LOCATION:12 Mühlenstraße  Berlin Berlin 10243
SUMMARY:Eisbären Berlin - Adler Mannheim, Finale Spiel 2
DESCRIPTION:Die Eisbären Berlin stehen im Finale um die Deutsche Meisterschaft. Nach spannenden Spielen gegen die Kölner Haie konnten sich die Berliner in der Halbfinalserie durchsetzen und kämpfen nun gegen die Adler Mannheim um ihren 12. Deutschen Meistertitel.Spiel 2, 4 und ein mögliches Spiel 6 der Finalserie finden in der Uber Arena statt.Tickets sind ab Dienstag, den 21. April 2026, um 12 Uhr erhältlich.
END:VEVENT
END:VCALENDAR