BEGIN:VCALENDAR
VERSION:2.0
PRODID:-//hacksw/handcal//NONSGML v1.0//EN
BEGIN:VEVENT
DTSTAMP:20271028T180000Z
DTSTART:20271028T180000Z
DTEND:20271028T200000Z

GEO:52.5063462;13.4436582
LOCATION:12 Mühlenstraße  Berlin Berlin 10243
SUMMARY:die PRINZEN
DESCRIPTION:Am 28. Oktober 2027 haben wir die große Ehre, die PRINZEN im Rahmen ihrer Abschiedstournee „Tschüssi, macht’s gut!“ live in der Uber Arena zu begrüßen.Tickets gibt es ab Dienstag, dem 21. April 2026 um 10 Uhr im Arena Presale. Jetzt für den Event Alarm anmelden und informiert werden, sobald Tickets verfügbar sind.Mit ihrer Abschiedstournee sagen die PRINZEN live Adieu und laden ihr Publikum ein, noch einmal gemeinsam zu singen, zu lachen und Erinnerungen zu feiern. Fans dürfen sich auf zeitlose Klassiker, große Melodien und einen letzten gemeinsamen Abend mit einer der prägendsten Bands der deutschen Popgeschichte freuen.
END:VEVENT
END:VCALENDAR