BEGIN:VCALENDAR
VERSION:2.0
PRODID:-//hacksw/handcal//NONSGML v1.0//EN
BEGIN:VEVENT
DTSTAMP:20260509T170000Z
DTSTART:20260509T170000Z
DTEND:20260509T190000Z

GEO:52.5063462;13.4436582
LOCATION:12 Mühlenstraße  Berlin Berlin 10243
SUMMARY:Ehrlich Brothers: Diamonds
DESCRIPTION:Damit Sie die spektakuläre Diamonds-Tour der Ehrlich Brothers nicht verpassen, lädt das Zauber-Duo der Superlative am 9. und 10. Mai 2026 zu vier Zusatzshows in die Uber Arena in Berlin ein.Tickets gibt es ab sofort.Die Star-Magier Andreas und Chris Ehrlich, besser bekannt als die Ehrlich Brothers, präsentieren ihre exklusive Tour mit einer spektakulären Magie-Show voller Illusionen und Tricks in Berlin, die weltweit ihresgleichen suchen. Erleben Sie eine Live-Show in Deutschland, die die Grenzen des Vorstellbaren sprengt.Die Show ist für Kinder unter 3 Jahren aufgrund von Lautstärke & Pyrotechnik nicht zugelassen. Achtung: In der Show verwendete Lichteffekte können epileptische Anfälle auslösen.
END:VEVENT
END:VCALENDAR