BEGIN:VCALENDAR
VERSION:2.0
PRODID:-//hacksw/handcal//NONSGML v1.0//EN
BEGIN:VEVENT
DTSTAMP:20261003T190000Z
DTSTART:20261003T190000Z
DTEND:20261003T210000Z

GEO:;
LOCATION:   
SUMMARY:Ceca
DESCRIPTION:Am 3. Oktober 2026 kommt Ceca in die Uber Eats Music Hall nach Berlin.Tickets gibt es ab sofort.In ihrer Musik verbindet sie traditionelle Einflüsse mit zeitgemäßen Sounds. Von kraftvollen Balladen bis hin zu modernen Folk-Pop-Produktionen ist in ihrem Repertoire alles vertreten.
END:VEVENT
END:VCALENDAR