BEGIN:VCALENDAR
VERSION:2.0
PRODID:-//hacksw/handcal//NONSGML v1.0//EN
BEGIN:VEVENT
DTSTAMP:20170827T123000Z
DTSTART:20170827T123000Z
DTEND:20170827T143000Z

GEO:52.5063462;13.4436582
LOCATION:12 Mühlenstraße  Berlin Berlin 10243
SUMMARY:Basketball Länderspiel: Deutschland vs. Frankreich
DESCRIPTION:Einlass: 13 UhrAm 27. August 2017 wird die Uber Arena Austragungsort des Basketball-Länderspiels zwischen Deutschland und Frankreich. Beim letzten Härtetest der deutschen Basketball-Nationalmannschaft vor der EuroBasket 2017 haben Fans die Möglichkeit, NBA-Stars wie Dennis Schröder und Paul Zipser live in Berlin zu erleben. Tickets für die Begegnung sind ab sofort im Vorverkauf erhältlich.Das Testspiel in der Uber Arena bedeutet nicht nur die Rückkehr an den Ort der EuroBasket 2015, sondern dient auch zur Einstimmung auf die vier Tage später startende EM in Israel und der Türkei. Sowohl das Team von Bundestrainer Chris Fleming als auch die französische Nationalmannschaft werden in Berlin mit ihren Top-Stars auflaufen. Angeführt wird die deutsche Nationalmannschaft von den beiden NBA-Stars Dennis Schröder (Atlanta Hawks) und Paul Zipser (Chicago Bulls). Schröder ist bei den Hawks im Sommer zum Führungsspieler aufgestiegen und zahlt dies mit guten Leistungen zurück. USA-Rookie Zipser ließ in der laufenden Saison auch bereits mit erstklassigen Vorstellungen bei den Bullen aufhorchen. Mit Robin Benzing (CAI Basket Saragossa), Heiko Schaffartzik (JSF Nanterre), Johannes Voigtmann (Baskonia Vitoria Gasteiz) oder Tibor Pleiß (Galatasaray Istanbul) sind weitere Akteure in der Hauptstadt dabei, die ihr Geld im Ausland verdienen. ALBA BERLINs Niels Giffey und Akeem Vargas sowie Daniel Theis, Maodo Lo, Patrick Heckmann (alle Brose Bamberg) und Danilo Barthel, Maik Zirbes und Maximilian Kleber (alle FC Bayern München) runden den jungen Kader ab.Mit gleich sechs Profis aus der NBA im Trikot der Équipe tricolore wird das Spiel ein echter Härtetest für die deutsche Auswahl. Aus dem stark besetzten französichen Kader stechen vor allem Guard Nicolas Batum (Charlotte Hornets) und Centerspieler Rudy Gobert (Utah Jazz) heraus. Insgesamt ein perfektes Paket, das ein echtes Topspiel erwarten lässt.
END:VEVENT
END:VCALENDAR