BEGIN:VCALENDAR
VERSION:2.0
PRODID:-//hacksw/handcal//NONSGML v1.0//EN
BEGIN:VEVENT
DTSTAMP:20250521T180000Z
DTSTART:20250521T180000Z
DTEND:20250521T200000Z

GEO:52.5063462;13.4436582
LOCATION:12 Mühlenstraße  Berlin Berlin 10243
SUMMARY:ALBA BERLIN - ratiopharm Ulm, Viertelfinale Spiel 2
DESCRIPTION:ALBA BERLIN hat sich durch einen 81:78-Sieg in den Play-Ins gegen Syntainics MBC für das Playoff-Viertelfinale qualifiziert und trifft dort auf den Tabellenzweiten der Hauptrunde, ratiopharm Ulm.Spiel 2 der Viertelfinalserie findet am 21. Mai 2025 um 20:00 Uhr in der Uber Arena statt. Tickets sind ab sofort verfügbar.
END:VEVENT
END:VCALENDAR