BEGIN:VCALENDAR
VERSION:2.0
PRODID:-//hacksw/handcal//NONSGML v1.0//EN
BEGIN:VEVENT
DTSTAMP:20260318T180000Z
DTSTART:20260318T180000Z
DTEND:20260318T200000Z

GEO:52.5063462;13.4436582
LOCATION:12 Mühlenstraße  Berlin Berlin 10243
SUMMARY:ALBA BERLIN - AEK Athen BC
DESCRIPTION:Am 18. März 2026 empfängt ALBA BERLIN in der Round-of-16 der Champions League das Team von AEK Athen BC in der Uber Arena.Die Berliner um Cheftrainer Pedro Calles starten in der Saison 2025/26 erstmalig auch in der Basketball Championsleague.Die Eigengewächse Jonas Mattisseck und Malte Delow gehören auch in der neuen Spielzeit zum Kader der Albatrosse. Mit Norris Agbakoko, Boogie Ellis, Sam Griesel und Moses Wood stoßen einige Neuzuänge zum Team.
END:VEVENT
END:VCALENDAR