BEGIN:VCALENDAR
VERSION:2.0
PRODID:-//hacksw/handcal//NONSGML v1.0//EN
BEGIN:VEVENT
DTSTAMP:20110126T190000Z
DTSTART:20110126T190000Z
DTEND:20110126T210000Z

GEO:52.5063462;13.4436582
LOCATION:12 Mühlenstraße  Berlin Berlin 10243
SUMMARY:ABBA THE SHOW
DESCRIPTION:ABBA, die erfolgreichste Pop-Gruppe seit den Beatles, ist auch Jahrzehnte nach ihrer Auflösung allgegenwärtig. Bereits zum dritten Mal in Folge kommt mit THE ULTIMATE TRIBUTE SHOW TO ABBA die größte und aufwendigste ABBA-Show am 26. Januar 2011 in die O2 World Berlin. „THE ULTIMATE TRIBUTE SHOW TO ABBA klingt nicht nur wie ABBA, sondern sieht auch so aus", schwärmt Saxophonist Ulf Andersson, der ABBA selbst auf vielen Touren begleitet hat und auf fast allen ABBA-Alben zu hören ist. Zur „perfekten Illusion" wird die Show vor allem durch die nun schon seit 15 Jahren aktiven Sängerinnen und Sänger der Band „Waterloo". Herausragend begleitet vom National Symphony Orchestra of London beeindruckt die stimmliche Perfektion von Katja Nord und Camilla Hedrén.Genießen Sie einen Abend mit fetzigen Disco-Nummern wie "Dancing Queen", furiosen Pop-Klassikern wie "Super Trouper" oder "Take A Chance On Me" und bewegenden Balladen wie "The Winner Takes It All" oder "Thank You For The Music".
END:VEVENT
END:VCALENDAR