BEGIN:VCALENDAR
VERSION:2.0
PRODID:-//hacksw/handcal//NONSGML v1.0//EN
BEGIN:VEVENT
DTSTAMP:20100204T190000Z
DTSTART:20100204T190000Z
DTEND:20100204T210000Z

GEO:52.5063462;13.4436582
LOCATION:12 Mühlenstraße  Berlin Berlin 10243
SUMMARY:ABBA THE SHOW
DESCRIPTION:Das perfekte Live-Erlebnis für ABBA-Fans heißt ABBA THE SHOW. Die weltweit größte Live-Produktion zur Geschichte der erfolgreichsten Popgruppe seit den Beatles kommt im Februar 2010 bereits zum zweiten Mal in die O2 World.Die Show erzählt die musikalische Erfolgsgeschichte der Schweden anhand vieler ABBA-Klassiker wie Dancing Queen, Waterloo, Mamma Mia oder Fernando. Bei dieser Produktion treffen Mitglieder der originalen ABBA-Band auf die schwedische Gruppe Waterloo und das National Symphony Orchestra of London. Ihr Anspruch ist kein geringer als so nah wie nur möglich an die Vorbilder heranzukommen. Und das gelingt den Künstlern nicht nur durch den klassischen Sound und die originalgetreuen Kostüme, sondern vor allem durch die große stimmliche und optische Ähnlichkeit der beiden Frontfrauen Katja Nord und Camilla Hedrén mit Ihren Vorbildern Agnetha und Anni-Frid.
END:VEVENT
END:VCALENDAR