BEGIN:VCALENDAR
VERSION:2.0
PRODID:-//hacksw/handcal//NONSGML v1.0//EN
BEGIN:VEVENT
DTSTAMP:20260120T190000Z
DTSTART:20260120T190000Z
DTEND:20260120T210000Z

GEO:52.5063462;13.4436582
LOCATION:12 Mühlenstraße  Berlin Berlin 10243
SUMMARY:Xavier Naidoo
DESCRIPTION:German singer Xavier Naidoo will visit us live at the Uber Arena in Berlin on January 20 and 21st, 2026 as part of his "Bei meiner Seele" tour.Tickets are available now.Xavier Naidoo was born in Mannheim, where he co-founded the music group Söhne Mannheims in 1995. He also enjoyed great success as a solo artist from the end of the 1990s and has received several awards for his music. His greatest hits include “Dieser Weg”, “Ich kenne nichts (das so schön ist wie du)” and “Alles kann besser werden”.SUPPORT: Godwin
END:VEVENT
END:VCALENDAR