BEGIN:VCALENDAR
VERSION:2.0
PRODID:-//hacksw/handcal//NONSGML v1.0//EN
BEGIN:VEVENT
DTSTAMP:20260303T183000Z
DTSTART:20260303T183000Z
DTEND:20260303T203000Z

GEO:52.5063462;13.4436582
LOCATION:12 Mühlenstraße  Berlin Berlin 10243
SUMMARY:Wu-Tang Clan
DESCRIPTION:Wu-Tang Clan will visit us live at the Uber Arena in Berlin as part of the "Wu-Tang Forever: The Final Chamber" tour on March 3, 2026.Tickets are available now.The American hip hop group from New York has been an important part of the hip-hop scene since its formation in 1992. Its members include RZA, GZA, Inspectah Deck, U-God, Ghostface Killah, Method Man, Raekwon, Masta Killa, and Cappadonna.
END:VEVENT
END:VCALENDAR