BEGIN:VCALENDAR
VERSION:2.0
PRODID:-//hacksw/handcal//NONSGML v1.0//EN
BEGIN:VEVENT
DTSTAMP:20120204T190000Z
DTSTART:20120204T190000Z
DTEND:20120204T210000Z

GEO:52.5063462;13.4436582
LOCATION:12 Mühlenstraße  Berlin Berlin 10243
SUMMARY:Semino Rossi
DESCRIPTION:Der Schlagerstar Semino Rossi kommt am 4. Februar 2012 in die O2 World Berlin.Der in Argentinien geborene Künstler fand über einige Umwege in seine neue Heimat Österreich. Nachdem er einen Plattenvertrag bei Koch Universal Music unterschrieb, ging es steil bergauf für ihn. Seine herzerwärmenden Lieder und seine samtweiche Stimme sollten ihm schon bald das ermöglichen, was er sich immer vorgenommen hatte – von seiner Musik leben zu können. Er wurde bereits mit einem ECHO, drei Amadeus Austrian Music Awards, einer Goldenen Stimmgabel und vielen weiteren Preisen geehrt. Für sein Album „Ich denk an Dich" wurden ihm in der Show von Florian Silbereisen zwölf goldene Schallplatten überreicht.
END:VEVENT
END:VCALENDAR