BEGIN:VCALENDAR
VERSION:2.0
PRODID:-//hacksw/handcal//NONSGML v1.0//EN
BEGIN:VEVENT
DTSTAMP:20260314T190000Z
DTSTART:20260314T190000Z
DTEND:20260314T210000Z

GEO:52.5063462;13.4436582
LOCATION:12 Mühlenstraße  Berlin Berlin 10243
SUMMARY:Sarah Connor
DESCRIPTION:On March 14, 2026, we will welcome German pop and soul singer Sarah Connor to the Uber Arena in Berlin.Tickets are available now.The singer achieved her breakthrough in 2001 with the single “Let&#39;s Get Back to Bed - Boy!”. With over seven million records sold, she is considered one of the most successful German singers of the 2000s and 2010s. Look forward to an evening of her greatest hits, such as “Vincent”, “From Sarah with Love” and “Wie schön du bist”.
END:VEVENT
END:VCALENDAR