BEGIN:VCALENDAR
VERSION:2.0
PRODID:-//hacksw/handcal//NONSGML v1.0//EN
BEGIN:VEVENT
DTSTAMP:20270506T173000Z
DTSTART:20270506T173000Z
DTEND:20270506T193000Z

GEO:52.5063462;13.4436582
LOCATION:12 Mühlenstraße  Berlin Berlin 10243
SUMMARY:Roland Kaiser
DESCRIPTION:On May 6, 2027, we are honored to welcome Roland Kaiser back to the Uber Arena.Tickets are available now.Roland Kaiser is an exceptional musician - with his heartfelt lyrics and energised live concerts he has enchanted fans for decades. In 2027, the year of his 75th birthday, he has a special gift for himself and his fans: his "Unser Moment" Arena Tour. We are delighted to welcome him to our stage in May.
END:VEVENT
END:VCALENDAR