BEGIN:VCALENDAR
VERSION:2.0
PRODID:-//hacksw/handcal//NONSGML v1.0//EN
BEGIN:VEVENT
DTSTAMP:20251212T183000Z
DTSTART:20251212T183000Z
DTEND:20251212T203000Z

GEO:52.5063462;13.4436582
LOCATION:12 Mühlenstraße  Berlin Berlin 10243
SUMMARY:Radiohead
DESCRIPTION:We look forward to welcoming the British band Radiohead live at the Uber Arena in Berlin on December 8, 9, 11 and 12, 2025.Radiohead celebrated their breakthrough in 1992 with “Creep.” In the following years, the band impressed audiences with further hits such as “Karma Police” and “No Surprises” and built up a huge fan base worldwide. After several years without a visit in Berlin, we can finally look forward to welcoming them at the Uber Arena for four shows in December.Bag Policy: NO BACKPACKS / HOLDALS or anything bigger than a clutch bag is allowed in to RADIOHEAD concerts except for Bags classed medical essential, which must be accompanied with medical paperwork!
END:VEVENT
END:VCALENDAR