BEGIN:VCALENDAR
VERSION:2.0
PRODID:-//hacksw/handcal//NONSGML v1.0//EN
BEGIN:VEVENT
DTSTAMP:20101104T190000Z
DTSTART:20101104T190000Z
DTEND:20101104T210000Z

GEO:52.5063462;13.4436582
LOCATION:12 Mühlenstraße  Berlin Berlin 10243
SUMMARY:Peter Maffay
DESCRIPTION:Peter Maffay, ein Künstler der in einem Atemzug mit Musikern wie Marius Müller Westernhagen, Herbert Grönemeyer und den Scorpions genannt werden muss, wird am 4. November 2010 in der O2 World seine Fans mit seiner unverwechselbaren Art begeistern. Neben seinem musikalischen Erfolg, darunter zahlreiche Echos und Bambis, ist Peter Maffay auch für sein politisches Engagement bekannt und wurde unter anderem mit dem Bundesverdienstkreuz ausgezeichnet.In seiner 40-jährigen Bühnenkarriere verkaufte Peter Maffay weit mehr als 40 Millionen Tonträger und begeisterte während seiner Touren sein Publikum in stets ausverkauften Konzerthallen. Zwölf seiner Alben erreichten Platz 1 der deutschen Charts, ein bisher auf national und internationaler Ebene ungebrochener Rekord. Bei seinem Gastspiel in Berlin wird er neben den Hits aus seinem neuen Album "EWIG" auch seine alten Songs wie „So bist du", „Über sieben Brücken musst du gehn", „Nackt im Wind" und „Die Liebe bleibt" spielen, die ihm zu solch großer Bekanntheit verhalfen.
END:VEVENT
END:VCALENDAR