BEGIN:VCALENDAR
VERSION:2.0
PRODID:-//hacksw/handcal//NONSGML v1.0//EN
BEGIN:VEVENT
DTSTAMP:20161112T140000Z
DTSTART:20161112T140000Z
DTEND:20161112T160000Z

GEO:52.5063462;13.4436582
LOCATION:12 Mühlenstraße  Berlin Berlin 10243
SUMMARY:Peter Maffay und TABALUGA
DESCRIPTION:The little green dragon is back again: Peter Maffay and Tabaluga are set to present their new adventure on 11, 12 and 13 November 2016 at the Uber Arena.In autumn 2012 Maffay and his band already accompanied the dragon with the album “Tabaluga & die Zeichen der Zeit” (“Tabaluga & the Signs of Time”) at the arena. The little fairy tale character came to life in 1983 in “Tabaluga oder die Reise zur Vernunft” (“Tabaluga or the Journey to Sanity”) written by Peter Maffay, Gregor Rottschalk, Rolf Zuckowski and Helme Heine and since then it is the most successful Rock-Fairy Tale in Germany. Always together with his ice-princess Lilli, he fights against his opponent Arktos, the master of ice, in fascinating adventures.The new story “Es lebe die Freundschaft!” („Long live the Friendship!“) is about one of the most important themes ever: What is friendship? How do you handle it, how can you feel it? All the answers to this will be revealed live with Peter Maffay and the little green dragon in an exciting Rock-Fairy Tale with brand-new songs for children and all those who stayed one.
END:VEVENT
END:VCALENDAR