BEGIN:VCALENDAR
VERSION:2.0
PRODID:-//hacksw/handcal//NONSGML v1.0//EN
BEGIN:VEVENT
DTSTAMP:20241024T110000Z
DTSTART:20241024T110000Z
DTEND:20241024T130000Z

GEO:52.5063462;13.4436582
LOCATION:12 Mühlenstraße  Berlin Berlin 10243
SUMMARY:PAW Patrol Live! „Das grosse Piratenabenteuer“
DESCRIPTION:On October 24, 2024 we welcome "PAW PATROL LIVE! - The Great Pirate Adventure" at the Uber Arena in Berlin for three shows.Tickets are available now.In recent years, the Canadian children&#39;s animation series PAW PATROL has become one of the most successful TV series for pre-school children. Together with their friend and leader Ryder, the cute puppies complete dangerous missions and help all those in need. Accompanied by lots of music, lovingly designed stage decorations and colorful costumes, the live event promises an entertaining and varied show experience for the whole family.
END:VEVENT
END:VCALENDAR