BEGIN:VCALENDAR
VERSION:2.0
PRODID:-//hacksw/handcal//NONSGML v1.0//EN
BEGIN:VEVENT
DTSTAMP:20251018T173000Z
DTSTART:20251018T173000Z
DTEND:20251018T193000Z

GEO:52.5063462;13.4436582
LOCATION:12 Mühlenstraße  Berlin Berlin 10243
SUMMARY:One Vision of Queen - feat. Marc Martel
DESCRIPTION:On October 18, 2025, we are excited to welcome One Vision of Queen - feat. Marc Martel back into the Uber Arena in Berlin.Tickets are available now.Singer Marc Martel is regarded as the vocal reincarnation of Freddie Mercury and, with ‘One Vision of Queen’, is responsible for one of the legendary rock band&#39;s most popular tribute shows. For the third year in a row, fans can look forward to a breathtaking performance of Queen&#39;s greatest hits in the Uber Arena.
END:VEVENT
END:VCALENDAR