BEGIN:VCALENDAR
VERSION:2.0
PRODID:-//hacksw/handcal//NONSGML v1.0//EN
BEGIN:VEVENT
DTSTAMP:20160926T173000Z
DTSTART:20160926T173000Z
DTEND:20160926T193000Z

GEO:52.5063462;13.4436582
LOCATION:12 Mühlenstraße  Berlin Berlin 10243
SUMMARY:Nickelback
DESCRIPTION:Nickelback have announced a European tour following the release of their newest, eighth studio album "No Fixed Address". The band are set to perform at the Uber Arena on 26 September 2016. Tickets are available now. Support: Monster TruckWhile the Canadian rockband&#39;s first two records were mostly successful on a national level, their international breakthrough followed in 2001 with their record "Silver Side Up". Their first single "How You Remind Me" is still their most successful song to date. In 2002, Chad Kroeger collaborated with Josey Scott on the Spider-Man theme song "Hero". Their fifth and sixth albums, "All The Right Reasons" and and "Dark Horse", reached top positions in the charts all around the globe. Their accompanying would tour was further extended and partly moved to bigger venues to the high demand.Last year, singer Chad Kroeger had to cancel the European tour dates for health reasons. But now Nickelback are back and can&#39;t wait to perform live again: “Get ready Europe, we are bringing one hell of a loud party to our fans over there!" After their first show at the Uber Arena in 2013, it will be Nickelback&#39;s second time at the arena in 2016.
END:VEVENT
END:VCALENDAR