BEGIN:VCALENDAR
VERSION:2.0
PRODID:-//hacksw/handcal//NONSGML v1.0//EN
BEGIN:VEVENT
DTSTAMP:20260515T180000Z
DTSTART:20260515T180000Z
DTEND:20260515T200000Z

GEO:;
LOCATION:   
SUMMARY:Cancelled: Lola Young
DESCRIPTION:ATTENTION:The Lola Young concert at the Uber Eats Music Hall, planned to take place on May 15, 2026, has to be cancelled.Tickets can be returned at their point of purchase.
END:VEVENT
END:VCALENDAR