BEGIN:VCALENDAR
VERSION:2.0
PRODID:-//hacksw/handcal//NONSGML v1.0//EN
BEGIN:VEVENT
DTSTAMP:20230228T190000Z
DTSTART:20230228T190000Z
DTEND:20230228T210000Z

GEO:52.5063462;13.4436582
LOCATION:12 Mühlenstraße  Berlin Berlin 10243
SUMMARY:Lizzo
DESCRIPTION:American rapper Lizzo is taking to the stage of the Uber Arena on 28th of February 2023.Tickets are available now.Lizzo fans can rejoice: the songwriter is touring and paying Berlin a visit. Her hits "Truth Hurts" and "Rumors" will be sure to wow visitors of her show and of course her latest album "Special" can&#39;t be missing from the setlist.
END:VEVENT
END:VCALENDAR