BEGIN:VCALENDAR
VERSION:2.0
PRODID:-//hacksw/handcal//NONSGML v1.0//EN
BEGIN:VEVENT
DTSTAMP:20280129T190000Z
DTSTART:20280129T190000Z
DTEND:20280129T210000Z

GEO:52.5063462;13.4436582
LOCATION:12 Mühlenstraße  Berlin Berlin 10243
SUMMARY:Kool Savas
DESCRIPTION:Kool Savas will perform at the Uber Arena on January 29, 2028, as part of his „Rhythmus meines Lebens“-Tour.Tickets will be available exclusively through the arena presale starting Tuesday, April 21, 2026, at 11 a.m. Sign up now for the Event Alert to be notified as soon as tickets are available.For decades, the Berlin-based rapper has been one of the most influential artists in German hip-hop and has had a significant impact on the genre. On this tour, he combines classics, milestones, and new chapters into an evening that is more than just a retrospective.
END:VEVENT
END:VCALENDAR