BEGIN:VCALENDAR
VERSION:2.0
PRODID:-//hacksw/handcal//NONSGML v1.0//EN
BEGIN:VEVENT
DTSTAMP:20260705T150000Z
DTSTART:20260705T150000Z
DTEND:20260705T170000Z

GEO:;
LOCATION:   
SUMMARY:Flying Steps Academy
DESCRIPTION:As part of the “Classes on Stage” summer show, the Flying Steps Academy will be performing two shows at the Uber Eats Music Hall on July 5, 2026.Tickets are now available.The Flying Steps Academy is Germany’s largest urban dance school for children and adults. From hip-hop and breakdancing to ballet, a wide variety of dance styles are represented. This summer, the Flying Steps Academy will use its talents to transform the Uber Eats Music Hall into a colorful, lively dance floor.
END:VEVENT
END:VCALENDAR