BEGIN:VCALENDAR
VERSION:2.0
PRODID:-//hacksw/handcal//NONSGML v1.0//EN
BEGIN:VEVENT
DTSTAMP:20231027T173000Z
DTSTART:20231027T173000Z
DTEND:20231027T193000Z

GEO:52.5063462;13.4436582
LOCATION:12 Mühlenstraße  Berlin Berlin 10243
SUMMARY:Eisbären Berlin - Schwenninger Wild Wings
DESCRIPTION:Die Eisbären Berlin empfangen am 27. Oktober 2023 die Schwenninger Wild Wings in der Uber Arena.Nach dem frühen Ende der vergangenen Spielzeit ist das Ziel für die Mannschaft um Cheftrainer Serge Aubin mit dem Erreichen der Playoffs klar.Die Mannschaft der Berliner hat sich im Vergleich zur Vorsaison stark verändert. Mit Frank Hördler hat eine Eisbären-Legende den Verein verlassen. Auch Matt White, Kevin Clark, Giovanni Fiore und Tobias Ancicka tragen nicht mehr das Berliner Trikot. Dafür kehren Kai Wissmann und Blaine Byron zurück zum Team. Mit Tobias Eder, Lean Bergmann, Freddy Tiffels, Jake Hildebrandt, Ty Ronning und Patrice Cormier haben sich die Berliner punktuell verstärkt.Sichern Sie sich jetzt Ihr Ticket für die Eisbären Berlin.
END:VEVENT
END:VCALENDAR