BEGIN:VCALENDAR
VERSION:2.0
PRODID:-//hacksw/handcal//NONSGML v1.0//EN
BEGIN:VEVENT
DTSTAMP:20250425T173000Z
DTSTART:20250425T173000Z
DTEND:20250425T193000Z

GEO:52.5063462;13.4436582
LOCATION:12 Mühlenstraße  Berlin Berlin 10243
SUMMARY:Eisbären Berlin - Kölner Haie, Finals Game 5
DESCRIPTION:The Eisbären Berlin have qualified for the finals of the PENNY DEL PLAYOFFS and are now battling for their 11th German Championship. In the semifinals the Berliners came out on top after a hard fought series agains the Adler Mannheim.In the finals the Berliners will face Kölner Haie with the Eisbären Berlin having home ice advantage.
END:VEVENT
END:VCALENDAR