BEGIN:VCALENDAR
VERSION:2.0
PRODID:-//hacksw/handcal//NONSGML v1.0//EN
BEGIN:VEVENT
DTSTAMP:20260430T173000Z
DTSTART:20260430T173000Z
DTEND:20260430T193000Z

GEO:52.5063462;13.4436582
LOCATION:12 Mühlenstraße  Berlin Berlin 10243
SUMMARY:Eisbären Berlin - Adler Mannheim, Finals Game 4
DESCRIPTION:The Eisbären Berlin have advanced to the Finals of the PENNY DEL Playoffs. After a hard fought semifinals series against Kölner Haie the Berliners will now face the Adler Mannheim.Game 2, 4 and 6 of the best-of-seven series will be played at Uber Arena.Tickets will go on sale April 21st, 2026 at 12 p.m.
END:VEVENT
END:VCALENDAR