BEGIN:VCALENDAR
VERSION:2.0
PRODID:-//hacksw/handcal//NONSGML v1.0//EN
BEGIN:VEVENT
DTSTAMP:20260617T180000Z
DTSTART:20260617T180000Z
DTEND:20260617T200000Z

GEO:52.5063462;13.4436582
LOCATION:12 Mühlenstraße  Berlin Berlin 10243
SUMMARY:Doja Cat
DESCRIPTION:The American rapper, singer, and songwriter Doja Cat will visit us live at the Uber Arena in Berlin on June 17, 2026.Tickets are available now.Doja Cat celebrated her breakthrough in 2018 with the viral song "Mooo!" She has thrilled millions of fans with world-famous hits such as "Woman" and "Kiss Me More." The single "Jealousy Type" from her latest album "Vie," released on September 26, 2025, reached number 3 on Billboard&#39;s Hot Dance/Pop Songs chart.
END:VEVENT
END:VCALENDAR