BEGIN:VCALENDAR
VERSION:2.0
PRODID:-//hacksw/handcal//NONSGML v1.0//EN
BEGIN:VEVENT
DTSTAMP:20270508T173000Z
DTSTART:20270508T173000Z
DTEND:20270508T203000Z

GEO:;
LOCATION:   
SUMMARY:Clara Lösel
DESCRIPTION:Author and online poet Clara Lösel will perform at the Uber Eats Music Hall on May 8, 2027.Tickets go on sale Friday, April 24, 2026, at 10:00 a.m. Sign up now for the event alert to be notified as soon as tickets are available.Clara Lösel has built a large following on social media with her profound poetry videos. In her work, she addresses topics such as heartbreak and politics, as well as self-worth and jealousy. She is considered Germany’s most successful poetry artist.
END:VEVENT
END:VCALENDAR