BEGIN:VCALENDAR
VERSION:2.0
PRODID:-//hacksw/handcal//NONSGML v1.0//EN
BEGIN:VEVENT
DTSTAMP:20261002T180000Z
DTSTART:20261002T180000Z
DTEND:20261002T200000Z

GEO:52.5063462;13.4436582
LOCATION:12 Mühlenstraße  Berlin Berlin 10243
SUMMARY:Bryan Adams
DESCRIPTION:Bryan Adams will bring his "Roll With The Punches" - tour to the Uber Arena in Berlin on October 2, 2026.Tickets are available now.The Canadian musician has been one of the world&#39;s most successful rock artists for decades. With timeless hits such as “Summer of &#39;69,” “Run To You,” and “(Everything I Do) I Do It For You,” he has thrilled generations of fans. His energetic live shows are synonymous with genuine rock vibes, powerful emotions and goosebumps moments that thrill audiences time and time again.
END:VEVENT
END:VCALENDAR