BEGIN:VCALENDAR
VERSION:2.0
PRODID:-//hacksw/handcal//NONSGML v1.0//EN
BEGIN:VEVENT
DTSTAMP:20260502T180000Z
DTSTART:20260502T180000Z
DTEND:20260502T200000Z

GEO:;
LOCATION:   
SUMMARY:Blue
DESCRIPTION:British boy band Blue is going on their “25th Anniversary Tour” and will be performing live at the Uber Eats Music Hall in Berlin on May 2, 2026.Tickets are available now.Band members Lee Ryan, Simon Webbe, Duncan James, and Antony Costa met on the British talent show Pop Idol and formed the band Blue in 2001. They released their first single, “All Rise,” which immediately reached number four on the UK Singles Chart. Their debut album of the same name went quadruple platinum. The London-based boy band celebrated their greatest success with their cover version of Elton John&#39;s “Sorry Seems to Be the Hardest Word.” But songs like “Breathe Easy” and “Signed, Sealed, Delivered I&#39;m Yours” also made their fans&#39; hearts beat faster.After a hiatus from 2005 to 2009, Blue released three more albums. Twenty-five years after their formation, they are now back on tour and will thrill their fans at the Uber Eats Music Hall.
END:VEVENT
END:VCALENDAR