BEGIN:VCALENDAR
VERSION:2.0
PRODID:-//hacksw/handcal//NONSGML v1.0//EN
BEGIN:VEVENT
DTSTAMP:20261031T190000Z
DTSTART:20261031T190000Z
DTEND:20261031T210000Z

GEO:;
LOCATION:   
SUMMARY:Arlo Parks
DESCRIPTION:On October 31, 2026, vocal talent Arlo Parks will be performing at Uber Eats Music Hall Berlin.Tickets are available now.This year Arlo Parks is coming to Berlin as part of her “Desire Tour.” In 2021 the British artist landed at number 3 on the UK album charts with her debut album. Since then she gained fans around the globe with hits such as “Black Dog” and "Hope".
END:VEVENT
END:VCALENDAR