BEGIN:VCALENDAR
VERSION:2.0
PRODID:-//hacksw/handcal//NONSGML v1.0//EN
BEGIN:VEVENT
DTSTAMP:20251220T173000Z
DTSTART:20251220T173000Z
DTEND:20251220T193000Z

GEO:52.5063462;13.4436582
LOCATION:12 Mühlenstraße  Berlin Berlin 10243
SUMMARY:ALBA BERLIN - ratiopharm Ulm
DESCRIPTION:On December 20, 2025 ALBA BERLIN is facing ratiopharm Ulm at Uber Arena.The Berlin team led by Head Coach Pedro Calles will also compete in the Basketball Champions League for the first time in the 2025/26 season.Home-grown players Jonas Mattisseck and Malte Delow will also be part of the Albatross squad in the new season. Norris Agbakoko, Boogie Ellis, Sam Griesel and Moses Wood are new additions to the team.
END:VEVENT
END:VCALENDAR