BEGIN:VCALENDAR
VERSION:2.0
PRODID:-//hacksw/handcal//NONSGML v1.0//EN
BEGIN:VEVENT
DTSTAMP:20250521T180000Z
DTSTART:20250521T180000Z
DTEND:20250521T200000Z

GEO:52.5063462;13.4436582
LOCATION:12 Mühlenstraße  Berlin Berlin 10243
SUMMARY:ALBA BERLIN - ratiopharm Ulm, Quarterfinals Game 2
DESCRIPTION:ALBA BERLIN has qualified for the quarterfinals of this years playoffs where they will be facing ratiopharm Ulm who finished the regular season as the second best team.Game 2 of the series will be played at Uber Arena on May 21st, 2025. Tickets are available now.
END:VEVENT
END:VCALENDAR