BEGIN:VCALENDAR
VERSION:2.0
PRODID:-//hacksw/handcal//NONSGML v1.0//EN
BEGIN:VEVENT
DTSTAMP:20220928T170000Z
DTSTART:20220928T170000Z
DTEND:20220928T190000Z

GEO:52.5063462;13.4436582
LOCATION:12 Mühlenstraße  Berlin Berlin 10243
SUMMARY:ALBA BERLIN - Hamburg Towers
DESCRIPTION:ALBA BERLIN geht als 11-facher Deutscher Meister in die easyCredit Basketball Bundesliga Saison 2022/23.Die Meistermannschaft des letzten Jahres konnte in Berlin gehalten werden. Leistungsträger wie Maodo Lô, Luke Sikma, Johannes Thiemann und Jaleen Smith tragen auch in der neuen Spielzeit das Trikot der Albatrosse. Mit Gabriele Procida und Yannick Wetzel wurde das Team gezielt verstärkt.Das Team um Cheftrainer Israel González tritt in der Saison 2022/23 auch in der Turkish Airlines Euroleague an.
END:VEVENT
END:VCALENDAR